BEGIN:VCALENDAR
VERSION:2.0
PRODID:-//Latinos En Toronto - ECPv6.9.0//NONSGML v1.0//EN
CALSCALE:GREGORIAN
METHOD:PUBLISH
X-WR-CALNAME:Latinos En Toronto
X-ORIGINAL-URL:https://latinosentoronto.info
X-WR-CALDESC:Eventos para Latinos En Toronto
REFRESH-INTERVAL;VALUE=DURATION:PT1H
X-Robots-Tag:noindex
X-PUBLISHED-TTL:PT1H
BEGIN:VTIMEZONE
TZID:America/Halifax
BEGIN:DAYLIGHT
TZOFFSETFROM:-0400
TZOFFSETTO:-0300
TZNAME:ADT
DTSTART:20220313T060000
END:DAYLIGHT
BEGIN:STANDARD
TZOFFSETFROM:-0300
TZOFFSETTO:-0400
TZNAME:AST
DTSTART:20221106T050000
END:STANDARD
END:VTIMEZONE
BEGIN:VEVENT
DTSTART;TZID=America/Halifax:20220904T110000
DTEND;TZID=America/Halifax:20220904T120000
DTSTAMP:20260421T230628
CREATED:20220902T191200Z
LAST-MODIFIED:20220902T191306Z
UID:15605-1662289200-1662292800@latinosentoronto.info
SUMMARY:Yoga in Trillium Park
DESCRIPTION:Luciana Santaguida (NÜLOVE)\nLuciana es una consumada profesora de Yoga con 300 horas de formación\, sanadora de sonido y maestra de Reiki. Con base en Toronto\, ha tenido el placer de enseñar a miles de personas en el GTA\, Estados Unidos y Costa Rica. Luciana enseña una práctica de hatha-vinyasa con un enfoque en la conexión del cuerpo con la respiración y la construcción de la fuerza del núcleo. Esta es una poderosa práctica centrada en el corazón para todos los niveles. Junto con el yoga y la sanación con sonido\, Luciana es un músico consumado\, y es la fundadora y creadora de NÜLOVE y Zen Dogs Wellness; dos marcas holísticas que unen el poder del yoga\, el bienestar y la música. \n 
URL:https://latinosentoronto.info/event/yoga-in-trillium-park/
LOCATION:Trillium Park\, 955 Lakeshore Blvd West Toronto\,\, Toronto\, Ontario\, M6K 3B9\, Canada
CATEGORIES:Yoga
ATTACH;FMTTYPE=image/webp:https://latinosentoronto.info/wp-content/uploads/2022/09/yoga-2022.webp
END:VEVENT
END:VCALENDAR