BEGIN:VCALENDAR
VERSION:2.0
PRODID:-//Latinos En Toronto - ECPv6.9.0//NONSGML v1.0//EN
CALSCALE:GREGORIAN
METHOD:PUBLISH
X-WR-CALNAME:Latinos En Toronto
X-ORIGINAL-URL:https://latinosentoronto.info
X-WR-CALDESC:Eventos para Latinos En Toronto
REFRESH-INTERVAL;VALUE=DURATION:PT1H
X-Robots-Tag:noindex
X-PUBLISHED-TTL:PT1H
BEGIN:VTIMEZONE
TZID:America/Halifax
BEGIN:DAYLIGHT
TZOFFSETFROM:-0400
TZOFFSETTO:-0300
TZNAME:ADT
DTSTART:20220313T060000
END:DAYLIGHT
BEGIN:STANDARD
TZOFFSETFROM:-0300
TZOFFSETTO:-0400
TZNAME:AST
DTSTART:20221106T050000
END:STANDARD
END:VTIMEZONE
BEGIN:VEVENT
DTSTART;TZID=America/Halifax:20220902T140000
DTEND;TZID=America/Halifax:20220904T200000
DTSTAMP:20260420T171022
CREATED:20220902T184120Z
LAST-MODIFIED:20220902T184403Z
UID:15585-1662127200-1662321600@latinosentoronto.info
SUMMARY:Toronto dragon festival
DESCRIPTION:El Festival del Dragón de Toronto 2022 vuelve a Nathan Phillips Square con dragones\, comida y un deslumbrante espectáculo acuático \nCon el anuncio del Festival del Dragón de Toronto de 2022\, el primer espectáculo acuático The Reflection aterrizará en la icónica piscina reflectante de Toronto en Nathan Phillips Square de una forma mucho más espectacular. \nPrepárese para deslumbrar a Toronto y al mundo\, la Asociación Canadiense de Artes Escénicas Chinas le presentará el 3er Festival del Dragón de Toronto\, con el espectáculo acuático extravagante sin precedentes que se representará en Nathan Phillips Square del 2 al 4 de septiembre. \nInterrumpido durante dos difíciles años por la pandemia\, el 2022 Festival del Dragón de Toronto reintroducirá la leyenda del dragón\, desplegará una dinámica historia de los descendientes del dragón y se apoderará del escenario con sus actuaciones favoritas de Kung Fu\, desfile de moda tradicional\, acrobacias y danza. \nNo es necesario tener una piscina o estar a pocos metros del mar para disfrutar de un extraordinario espectáculo acuático. ¡Venga al Festival del Dragón de Toronto 2022! \nCombinando a los increíbles maestros de Kung Fu\, el desfile de pasarela sobre el agua y las danzas del dragón y el león\, tan queridas por todos\, el espectáculo acuático Reflection es más versátil de lo que ha experimentado hasta ahora\, ofreciendo los emocionantes entretenimientos tradicionales y modernos listos para impresionar a Toronto y al mundo. Acérquese a un taburete y prepare sus palillos\, ya que podrá degustar las más auténticas y diversas comidas chinas y étnicas mientras disfruta del espectáculo. \n \n 
URL:https://latinosentoronto.info/event/toronto-dragon-festival/
LOCATION:Nathan Phillips\, Nathan Phillips Square 100 Queen st W\, Toronto\, Ontario\, Canada
CATEGORIES:festival
ATTACH;FMTTYPE=image/webp:https://latinosentoronto.info/wp-content/uploads/2022/09/festival-del-dargon.webp
ORGANIZER;CN="Canadian Association of Chinese Performing Arts":MAILTO:info@dragonfestival.ca
END:VEVENT
END:VCALENDAR